BEGIN:VCALENDAR
VERSION:2.0
PRODID:-//WERA - ECPv6.15.20//NONSGML v1.0//EN
CALSCALE:GREGORIAN
METHOD:PUBLISH
X-ORIGINAL-URL:https://weraonline.org
X-WR-CALDESC:Events for WERA
REFRESH-INTERVAL;VALUE=DURATION:PT1H
X-Robots-Tag:noindex
X-PUBLISHED-TTL:PT1H
BEGIN:VTIMEZONE
TZID:Europe/London
BEGIN:DAYLIGHT
TZOFFSETFROM:+0000
TZOFFSETTO:+0100
TZNAME:BST
DTSTART:20250330T010000
END:DAYLIGHT
BEGIN:STANDARD
TZOFFSETFROM:+0100
TZOFFSETTO:+0000
TZNAME:GMT
DTSTART:20251026T010000
END:STANDARD
BEGIN:DAYLIGHT
TZOFFSETFROM:+0000
TZOFFSETTO:+0100
TZNAME:BST
DTSTART:20260329T010000
END:DAYLIGHT
BEGIN:STANDARD
TZOFFSETFROM:+0100
TZOFFSETTO:+0000
TZNAME:GMT
DTSTART:20261025T010000
END:STANDARD
BEGIN:DAYLIGHT
TZOFFSETFROM:+0000
TZOFFSETTO:+0100
TZNAME:BST
DTSTART:20270328T010000
END:DAYLIGHT
BEGIN:STANDARD
TZOFFSETFROM:+0100
TZOFFSETTO:+0000
TZNAME:GMT
DTSTART:20271031T010000
END:STANDARD
END:VTIMEZONE
BEGIN:VTIMEZONE
TZID:Europe/Dublin
BEGIN:STANDARD
TZOFFSETFROM:+0000
TZOFFSETTO:+0100
TZNAME:IST
DTSTART:20250330T010000
END:STANDARD
BEGIN:DAYLIGHT
TZOFFSETFROM:+0100
TZOFFSETTO:+0000
TZNAME:GMT
DTSTART:20251026T010000
END:DAYLIGHT
BEGIN:STANDARD
TZOFFSETFROM:+0000
TZOFFSETTO:+0100
TZNAME:IST
DTSTART:20260329T010000
END:STANDARD
BEGIN:DAYLIGHT
TZOFFSETFROM:+0100
TZOFFSETTO:+0000
TZNAME:GMT
DTSTART:20261025T010000
END:DAYLIGHT
BEGIN:STANDARD
TZOFFSETFROM:+0000
TZOFFSETTO:+0100
TZNAME:IST
DTSTART:20270328T010000
END:STANDARD
BEGIN:DAYLIGHT
TZOFFSETFROM:+0100
TZOFFSETTO:+0000
TZNAME:GMT
DTSTART:20271031T010000
END:DAYLIGHT
END:VTIMEZONE
BEGIN:VTIMEZONE
TZID:Europe/Moscow
BEGIN:STANDARD
TZOFFSETFROM:+0300
TZOFFSETTO:+0300
TZNAME:MSK
DTSTART:20250101T000000
END:STANDARD
END:VTIMEZONE
BEGIN:VTIMEZONE
TZID:Europe/Madrid
BEGIN:DAYLIGHT
TZOFFSETFROM:+0100
TZOFFSETTO:+0200
TZNAME:CEST
DTSTART:20260329T010000
END:DAYLIGHT
BEGIN:STANDARD
TZOFFSETFROM:+0200
TZOFFSETTO:+0100
TZNAME:CET
DTSTART:20261025T010000
END:STANDARD
BEGIN:DAYLIGHT
TZOFFSETFROM:+0100
TZOFFSETTO:+0200
TZNAME:CEST
DTSTART:20270328T010000
END:DAYLIGHT
BEGIN:STANDARD
TZOFFSETFROM:+0200
TZOFFSETTO:+0100
TZNAME:CET
DTSTART:20271031T010000
END:STANDARD
BEGIN:DAYLIGHT
TZOFFSETFROM:+0100
TZOFFSETTO:+0200
TZNAME:CEST
DTSTART:20280326T010000
END:DAYLIGHT
BEGIN:STANDARD
TZOFFSETFROM:+0200
TZOFFSETTO:+0100
TZNAME:CET
DTSTART:20281029T010000
END:STANDARD
END:VTIMEZONE
BEGIN:VTIMEZONE
TZID:Europe/Vienna
BEGIN:DAYLIGHT
TZOFFSETFROM:+0100
TZOFFSETTO:+0200
TZNAME:CEST
DTSTART:20260329T010000
END:DAYLIGHT
BEGIN:STANDARD
TZOFFSETFROM:+0200
TZOFFSETTO:+0100
TZNAME:CET
DTSTART:20261025T010000
END:STANDARD
BEGIN:DAYLIGHT
TZOFFSETFROM:+0100
TZOFFSETTO:+0200
TZNAME:CEST
DTSTART:20270328T010000
END:DAYLIGHT
BEGIN:STANDARD
TZOFFSETFROM:+0200
TZOFFSETTO:+0100
TZNAME:CET
DTSTART:20271031T010000
END:STANDARD
BEGIN:DAYLIGHT
TZOFFSETFROM:+0100
TZOFFSETTO:+0200
TZNAME:CEST
DTSTART:20280326T010000
END:DAYLIGHT
BEGIN:STANDARD
TZOFFSETFROM:+0200
TZOFFSETTO:+0100
TZNAME:CET
DTSTART:20281029T010000
END:STANDARD
END:VTIMEZONE
BEGIN:VEVENT
DTSTART;TZID=Europe/London:20260409T100000
DTEND;TZID=Europe/London:20260409T110000
DTSTAMP:20260424T134157
CREATED:20260326T140849Z
LAST-MODIFIED:20260326T141259Z
UID:14105-1775728800-1775732400@weraonline.org
SUMMARY:Webinar: Teacher Preparedness for Informal Curricular Ecosystems
DESCRIPTION:On behalf of the WERA Task Force ‘Global Research in Extended Education’\, we warmly invite you to join Brendon Hyndman\, Associate Professor of Education at Charles Sturt University\, Australia\, to explore the evolving role of teachers in informal learning environments. \nThe session will be moderated by Assoc. Prof. Bünyamin Bavlı from the School of Education at Istanbul Yıldız Technical University\, Turkiye. \nRegister now and be part of the conversation: https://lnkd.in/df3spgaT
URL:https://weraonline.org/event/webinar-teacher-preparedness-for-informal-curricular-ecosystems/
CATEGORIES:Webinars
END:VEVENT
BEGIN:VEVENT
DTSTART;VALUE=DATE:20260528
DTEND;VALUE=DATE:20260531
DTSTAMP:20260424T134157
CREATED:20260113T165205Z
LAST-MODIFIED:20260113T165205Z
UID:13569-1779926400-1780185599@weraonline.org
SUMMARY:ESAI Annual Conference 2026
DESCRIPTION:  \nAlmost fifty years ago\, a group of innovative educators in Ireland convened a ‘Meeting of Scholars’ in Galway to discuss\, explore and interrogate ideas about education and research in education. At the conference in 2026\, ESAI will celebrate that initial meeting in the University of Galway with the theme ‘From Legacy to Futures: Celebrating ESAI’s First Meeting of Scholars and 50 Years of Irish Educational Research’. \nAs educators\, we look to our past to learn from it and we will use this learning to inform\, inspire and illuminate the shape and integrity of the future of educational research. We hold a responsibility to be critically reflective and innovative and envision educational futures that will enable all learners and educators to flourish in an equitable and more sustainable world. ESAI Annual Conference 2026 will be a forum for the dissemination of research that considers past\, present and future contributions and influences at local\, national and international levels. \nWe invite attendees from all educational settings\, from across all academic disciplines in education to this special event. \nESAI is delighted to announce that the keynote speaker at the ESAI Conference 2026 will be Prof Joe O’Hara. \n 
URL:https://weraonline.org/event/esai-annual-conference-2026/
LOCATION:University of Galway\, Ireland\, Ireland
CATEGORIES:Conferences
END:VEVENT
BEGIN:VEVENT
DTSTART;VALUE=DATE:20260908
DTEND;VALUE=DATE:20260911
DTSTAMP:20260424T134157
CREATED:20251017T105548Z
LAST-MODIFIED:20251017T105548Z
UID:13217-1788825600-1789084799@weraonline.org
SUMMARY:[BERA] BERA Conference 2026
DESCRIPTION:
URL:https://weraonline.org/event/bera-bera-conference-2026/
LOCATION:University of Manchester\, United Kingdom
CATEGORIES:Conferences
END:VEVENT
BEGIN:VEVENT
DTSTART;VALUE=DATE:20261028
DTEND;VALUE=DATE:20261031
DTSTAMP:20260424T134157
CREATED:20260422T095159Z
LAST-MODIFIED:20260422T095159Z
UID:14538-1793145600-1793404799@weraonline.org
SUMMARY:[RERA] XVII International Conference on Higher Education (ICHE 2026) on 28-30 October\, Moscow
DESCRIPTION:The Russian Educational Research Association (RERA) is delighted  to invite WERA colleagues to participate in the XVII International Conference on Higher Education (ICHE)\, which will take place on October 28–30\, 2026 at HSE University in Moscow. \n \nThis year’s theme — “The (Non-)Homogeneous Landscape of Higher Education: Institutions\, Trajectories\, Effects” — focuses on the growing diversity of higher education systems worldwide and its implications for inequality\, institutional development\, and student trajectories. \n \nThe Conference aims to bring together scholars and practitioners to discuss key questions such as: \n \n 	how institutional diversity shapes access and equity\,\n \n 	how higher education systems respond to changing labour markets\,\n \n 	how student and academic trajectories are evolving\,\n \n 	and how universities redefine their missions in an increasingly differentiated landscape.\n \nKey topics include: \n \n 	Economics and stratification of higher education\n \n 	Labour market outcomes and heterogeneity of effects\n \n 	Academic careers and institutional diversity\n \n 	Student well-being and educational trajectories\n \n 	Big data and analytics in higher education research\n \n 	And other topics within higher education research (including an open track)\n \nThe call for abstracts is open until May 10\, 2026. \n \nMore information and submission details can be found here: https://educonf.hse.ru/en/2026/ \n \nIf you have any questions\, please feel free to contact the Programme Committee at rhec@hse.ru. \n \nSee you in Moscow this autumn for what promises to be an engaging and inspiring exchange.
URL:https://weraonline.org/event/rera-xvii-international-conference-on-higher-education-iche-2026-on-28-30-october-moscow/
LOCATION:HSE University\, Moscow\, Russian Federation
CATEGORIES:Call for Papers,Conferences
END:VEVENT
BEGIN:VEVENT
DTSTART;VALUE=DATE:20270622
DTEND;VALUE=DATE:20270625
DTSTAMP:20260424T134157
CREATED:20260331T085528Z
LAST-MODIFIED:20260331T085927Z
UID:14179-1813622400-1813881599@weraonline.org
SUMMARY:WERA World Congress 2027
DESCRIPTION:
URL:https://weraonline.org/event/wera-world-congress-2027/
LOCATION:University of Deusto\, Bilbao\, Avda. de las Universidades\, 24\, Bilbao\, 48007\, Spain
CATEGORIES:Annual Focal Meetings
END:VEVENT
BEGIN:VEVENT
DTSTART;VALUE=DATE:20270920
DTEND;VALUE=DATE:20270925
DTSTAMP:20260424T134157
CREATED:20260422T094205Z
LAST-MODIFIED:20260422T094905Z
UID:14524-1821398400-1821830399@weraonline.org
SUMMARY:[Task Force GREE] WERA Task Force Global Research in Extended Education Conference 2027
DESCRIPTION:
URL:https://weraonline.org/event/task-force-gree-wera-task-force-global-research-in-extended-education-conference-2027/
LOCATION:University College of Teacher Education\, Vienna\, Austria\, Vienna\, Austria
CATEGORIES:Conferences
END:VEVENT
END:VCALENDAR